BEGIN:VCALENDAR
VERSION:2.0
PRODID:-// - ECPv4.1.2//NONSGML v1.0//EN
CALSCALE:GREGORIAN
METHOD:PUBLISH
X-WR-CALNAME:
X-ORIGINAL-URL:http://www.taconeconsulting.com
X-WR-CALDESC:Events for 
BEGIN:VEVENT
DTSTART;TZID=America/Denver:20150516T100000
DTEND;TZID=America/Denver:20150516T160000
DTSTAMP:20260419T221344
CREATED:20141122T052048
LAST-MODIFIED:20150308T184724
UID:3181-1431770400-1431792000@www.taconeconsulting.com
SUMMARY:Tactical Pistol-Denver
DESCRIPTION:Register
URL:http://www.taconeconsulting.com/event/live-fire-2/
CATEGORIES:Civilian
ATTACH;FMTTYPE=image/jpeg:http://www.taconeconsulting.com/wp-content/uploads/2015/03/DSC_0958.jpg
END:VEVENT
END:VCALENDAR