BEGIN:VCALENDAR
VERSION:2.0
PRODID:-// - ECPv4.1.2//NONSGML v1.0//EN
CALSCALE:GREGORIAN
METHOD:PUBLISH
X-WR-CALNAME:
X-ORIGINAL-URL:http://www.taconeconsulting.com
X-WR-CALDESC:Events for 
BEGIN:VEVENT
DTSTART;TZID=America/Denver:20150504T083000
DTEND;TZID=America/Denver:20150508T183000
DTSTAMP:20260420T012253
CREATED:20140605T234554
LAST-MODIFIED:20150305T052427
UID:2900-1430728200-1431109800@www.taconeconsulting.com
SUMMARY:Urban LE Sniper School - (ID)
DESCRIPTION:Sniper School - Hailey Idaho - Course flyer Urban LE Sniper Blaine County 2015\n\nRegister\n\n 
URL:http://www.taconeconsulting.com/event/sniper-school-idaho/
LOCATION:1650 Aviation Dr\, Hailey\, ID\, 83333\, United States
CATEGORIES:Law Enforcement
END:VEVENT
END:VCALENDAR