BEGIN:VCALENDAR
VERSION:2.0
PRODID:-// - ECPv4.1.2//NONSGML v1.0//EN
CALSCALE:GREGORIAN
METHOD:PUBLISH
X-WR-CALNAME:
X-ORIGINAL-URL:http://www.taconeconsulting.com
X-WR-CALDESC:Events for 
BEGIN:VEVENT
DTSTART;VALUE=DATE:20150614
DTEND;VALUE=DATE:20150614
DTSTAMP:20260419T140912
CREATED:20150513
LAST-MODIFIED:20150513
UID:3614-1434240000-1434326399@www.taconeconsulting.com
SUMMARY:Tactical Pistol- Denver
DESCRIPTION:Hone your close quarters handgun skills on our private range.  Please check out the course flyer for additional information.\n\nTactical Pistol Rev 0315\n\nRegister\n\n\n\n 
URL:http://www.taconeconsulting.com/event/tactical-pistol-denver-2/
CATEGORIES:Civilian
END:VEVENT
END:VCALENDAR