BEGIN:VCALENDAR
VERSION:2.0
PRODID:-// - ECPv4.1.2//NONSGML v1.0//EN
CALSCALE:GREGORIAN
METHOD:PUBLISH
X-WR-CALNAME:
X-ORIGINAL-URL:https://www.taconeconsulting.com
X-WR-CALDESC:Events for 
BEGIN:VEVENT
DTSTART;TZID=America/Denver:20150317T083000
DTEND;TZID=America/Denver:20150320T170000
DTSTAMP:20260425T211553
CREATED:20150305T042719
LAST-MODIFIED:20150305T044631
UID:3267-1426581000-1426870800@www.taconeconsulting.com
SUMMARY:Active Shooter Instructor - (OK)
DESCRIPTION:Active Shooter Instructor Course: Simunition® driven Single - Four officer responses & "Beyond the Lockdown..."  Hosted by the Okmulgee Police Department\n\nRegister\n\n\n\n 
URL:https://www.taconeconsulting.com/event/active-shooter-instructor-ok/
LOCATION:Okmulgee\, OK\, United States
CATEGORIES:Law Enforcement,SRO
END:VEVENT
END:VCALENDAR